BEGIN:VCALENDAR
METHOD:REQUEST
PRODID:-//events.orgNONSGML ical.net 4.0//EN
VERSION:2.0
BEGIN:VEVENT
DTEND;VALUE=DATE:20260501
DTSTAMP:20260421T103946Z
DTSTART;VALUE=DATE:20260501
LOCATION:Nectar Lounge\, Seattle
ORGANIZER;CN=:mailto:events@events.org
SEQUENCE:0
SUMMARY:Hit Explosion
UID:531fa714-3c4e-40a0-8aec-41257e73a297
URL:https://events.org/e/Hit-Explosion/AGQD7GDF
BEGIN:VALARM
ACTION:DISPLAY
SUMMARY:Reminder
TRIGGER:-P1D
END:VALARM
END:VEVENT
END:VCALENDAR
