BEGIN:VCALENDAR
METHOD:REQUEST
PRODID:-//events.orgNONSGML ical.net 4.0//EN
VERSION:2.0
BEGIN:VEVENT
DTEND;VALUE=DATE:20260611
DTSTAMP:20260422T084002Z
DTSTART;VALUE=DATE:20260611
LOCATION:Big Night Live\, Boston
ORGANIZER;CN=:mailto:events@events.org
SEQUENCE:0
SUMMARY:Kiss 108 Lisa's Book Club with Ann Patchett ( 21+ )
UID:213a2700-fde0-413b-8391-22a29874425d
URL:https://events.org/e/Kiss-108-Lisas-Book-Club-with-Ann-Patchett-21/WLS
 SH2CV
BEGIN:VALARM
ACTION:DISPLAY
SUMMARY:Reminder
TRIGGER:-P1D
END:VALARM
END:VEVENT
END:VCALENDAR
