BEGIN:VCALENDAR
METHOD:REQUEST
PRODID:-//events.orgNONSGML ical.net 4.0//EN
VERSION:2.0
BEGIN:VEVENT
DTEND;VALUE=DATE:20260506
DTSTAMP:20260421T095308Z
DTSTART;VALUE=DATE:20260506
LOCATION:The Masonic Lodge at Hollywood Forever\, Los Angeles
ORGANIZER;CN=:mailto:events@events.org
SEQUENCE:0
SUMMARY:Netflix Is A Joke Presents: Therapy Gecko
UID:7fc2975f-3763-4e7a-8400-0954b6e0b3ca
URL:https://events.org/e/Netflix-Is-A-Joke-Presents-Therapy-Gecko/9V62CE8B
BEGIN:VALARM
ACTION:DISPLAY
SUMMARY:Reminder
TRIGGER:-P1D
END:VALARM
END:VEVENT
END:VCALENDAR
