BEGIN:VCALENDAR
METHOD:REQUEST
PRODID:-//events.orgNONSGML ical.net 4.0//EN
VERSION:2.0
BEGIN:VEVENT
DTEND;VALUE=DATE:20260422
DTSTAMP:20260422T090541Z
DTSTART;VALUE=DATE:20260422
LOCATION:Radio City Music Hall Tour Experience\, New York
ORGANIZER;CN=:mailto:events@events.org
SEQUENCE:0
SUMMARY:Radio City Music Hall Tour Experience
UID:052bc0be-feda-4b22-98e2-156efda4a7df
URL:https://events.org/e/Radio-City-Music-Hall-Tour-Experience/8LGTUJOA
BEGIN:VALARM
ACTION:DISPLAY
SUMMARY:Reminder
TRIGGER:-P1D
END:VALARM
END:VEVENT
END:VCALENDAR
