BEGIN:VCALENDAR
METHOD:REQUEST
PRODID:-//events.orgNONSGML ical.net 4.0//EN
VERSION:2.0
BEGIN:VEVENT
DTEND;VALUE=DATE:20260711
DTSTAMP:20260424T092046Z
DTSTART;VALUE=DATE:20260711
LOCATION:Chase Center\, San Francisco
ORGANIZER;CN=:mailto:events@events.org
SEQUENCE:0
SUMMARY:Olivia Dean: The Art Of Loving Live
UID:9dcc9634-f476-4546-b839-3cd3aaa70501
URL:https://events.org/e/Olivia-Dean-The-Art-Of-Loving-Live/IFAI85ID
BEGIN:VALARM
ACTION:DISPLAY
SUMMARY:Reminder
TRIGGER:-P1D
END:VALARM
END:VEVENT
END:VCALENDAR
