BEGIN:VCALENDAR
METHOD:REQUEST
PRODID:-//events.orgNONSGML ical.net 4.0//EN
VERSION:2.0
BEGIN:VEVENT
DTEND;VALUE=DATE:20260622
DTSTAMP:20260421T143828Z
DTSTART;VALUE=DATE:20260622
LOCATION:Coors Field\, Denver
ORGANIZER;CN=:mailto:events@events.org
SEQUENCE:0
SUMMARY:Colorado Rockies vs. Boston Red Sox
UID:50850019-c5fc-40c2-82b7-9f7c51dd7b2e
URL:https://events.org/e/Colorado-Rockies-vs-Boston-Red-Sox/JK4TVXEE
BEGIN:VALARM
ACTION:DISPLAY
SUMMARY:Reminder
TRIGGER:-P1D
END:VALARM
END:VEVENT
END:VCALENDAR
