BEGIN:VCALENDAR
METHOD:REQUEST
PRODID:-//events.orgNONSGML ical.net 4.0//EN
VERSION:2.0
BEGIN:VEVENT
DTEND;VALUE=DATE:20260523
DTSTAMP:20260421T103756Z
DTSTART;VALUE=DATE:20260523
LOCATION:Center Stage Theater\, Atlanta
ORGANIZER;CN=:mailto:events@events.org
SEQUENCE:0
SUMMARY:Zain Zohaib Qawwali Night
UID:4694fa17-0f08-449c-9956-faec7bc99423
URL:https://events.org/e/Zain-Zohaib-Qawwali-Night/NTEQ6PVO
BEGIN:VALARM
ACTION:DISPLAY
SUMMARY:Reminder
TRIGGER:-P1D
END:VALARM
END:VEVENT
END:VCALENDAR
