BEGIN:VCALENDAR
METHOD:REQUEST
PRODID:-//events.orgNONSGML ical.net 4.0//EN
VERSION:2.0
BEGIN:VEVENT
DTEND;VALUE=DATE:20260509
DTSTAMP:20260425T103258Z
DTSTART;VALUE=DATE:20260509
LOCATION:Coca-Cola Roxy\, Atlanta
ORGANIZER;CN=:mailto:events@events.org
SEQUENCE:0
SUMMARY:Dethklok & Amon Amarth: The Amonklok Conquest
UID:1f68d984-b6a1-481c-8de8-84c6ef480c42
URL:https://events.org/e/Dethklok-Amon-Amarth-The-Amonklok-Conquest/Q2Q7VL
 Y4
BEGIN:VALARM
ACTION:DISPLAY
SUMMARY:Reminder
TRIGGER:-P1D
END:VALARM
END:VEVENT
END:VCALENDAR
