BEGIN:VCALENDAR
METHOD:REQUEST
PRODID:-//events.orgNONSGML ical.net 4.0//EN
VERSION:2.0
BEGIN:VEVENT
DTEND;VALUE=DATE:20260426
DTSTAMP:20260423T213530Z
DTSTART;VALUE=DATE:20260426
LOCATION:Summit Music Hall\, Denver
ORGANIZER;CN=:mailto:events@events.org
SEQUENCE:0
SUMMARY:Ari Lennox - The Vacancy Tour
UID:1da70976-159a-40c2-8b29-cd3e903929fd
URL:https://events.org/e/Ari-Lennox---The-Vacancy-Tour/JX9H47Q2
BEGIN:VALARM
ACTION:DISPLAY
SUMMARY:Reminder
TRIGGER:-P1D
END:VALARM
END:VEVENT
END:VCALENDAR
