BEGIN:VCALENDAR
METHOD:REQUEST
PRODID:-//events.orgNONSGML ical.net 4.0//EN
VERSION:2.0
BEGIN:VEVENT
DTEND;VALUE=DATE:20260419
DTSTAMP:20260421T082244Z
DTSTART;VALUE=DATE:20260419
LOCATION:Gramercy Theatre\, New York
ORGANIZER;CN=:mailto:events@events.org
SEQUENCE:0
SUMMARY:Depths of Wikipedia
UID:ae732785-f652-44bd-9a2d-c1e4ddcb3bfc
URL:https://events.org/e/Depths-of-Wikipedia/K93GW3HL
BEGIN:VALARM
ACTION:DISPLAY
SUMMARY:Reminder
TRIGGER:-P1D
END:VALARM
END:VEVENT
END:VCALENDAR
