BEGIN:VCALENDAR
METHOD:REQUEST
PRODID:-//events.orgNONSGML ical.net 4.0//EN
VERSION:2.0
BEGIN:VEVENT
DTEND;VALUE=DATE:20260430
DTSTAMP:20260425T231306Z
DTSTART;VALUE=DATE:20260430
LOCATION:The Moroccan Lounge\, Los Angeles
ORGANIZER;CN=:mailto:events@events.org
SEQUENCE:0
SUMMARY:Desert Daze Presents: Trance Farmers & High Tatras w/ Secret Smiles
UID:72f71e0c-fa6f-466f-a74f-936a359a61cd
URL:https://events.org/e/Desert-Daze-Presents-Trance-Farmers-High-Tatr/HJ9
 9B4X4
BEGIN:VALARM
ACTION:DISPLAY
SUMMARY:Reminder
TRIGGER:-P1D
END:VALARM
END:VEVENT
END:VCALENDAR
