BEGIN:VCALENDAR
METHOD:REQUEST
PRODID:-//events.orgNONSGML ical.net 4.0//EN
VERSION:2.0
BEGIN:VEVENT
DTEND;VALUE=DATE:20260605
DTSTAMP:20260425T180618Z
DTSTART;VALUE=DATE:20260605
LOCATION:The Anthem\, Washington
ORGANIZER;CN=:mailto:events@events.org
SEQUENCE:0
SUMMARY:MARTIN GARRIX AMERICAS TOUR
UID:e5e02a6f-5224-4c89-809e-da368b79c94b
URL:https://events.org/e/MARTIN-GARRIX-AMERICAS-TOUR/L5S8L8K3
BEGIN:VALARM
ACTION:DISPLAY
SUMMARY:Reminder
TRIGGER:-P1D
END:VALARM
END:VEVENT
END:VCALENDAR
