BEGIN:VCALENDAR
METHOD:REQUEST
PRODID:-//events.orgNONSGML ical.net 4.0//EN
VERSION:2.0
BEGIN:VEVENT
DTEND;VALUE=DATE:20260924
DTSTAMP:20260422T084708Z
DTSTART;VALUE=DATE:20260924
LOCATION:South Side Ballroom\, Dallas
ORGANIZER;CN=:mailto:events@events.org
SEQUENCE:0
SUMMARY:Frank Turner - Lost Evenings IX
UID:4532e1aa-bd25-4103-a28d-bd16720c514e
URL:https://events.org/e/Frank-Turner---Lost-Evenings-IX/Q7SIEIO2
BEGIN:VALARM
ACTION:DISPLAY
SUMMARY:Reminder
TRIGGER:-P1D
END:VALARM
END:VEVENT
END:VCALENDAR
