BEGIN:VCALENDAR
METHOD:REQUEST
PRODID:-//events.orgNONSGML ical.net 4.0//EN
VERSION:2.0
BEGIN:VEVENT
DTEND;VALUE=DATE:20260628
DTSTAMP:20260421T130317Z
DTSTART;VALUE=DATE:20260628
LOCATION:Buell Theatre\, Denver
ORGANIZER;CN=:mailto:events@events.org
SEQUENCE:0
SUMMARY:Derek Hough
UID:58cd9c77-e795-43be-bf12-4d6b5bbbc9fa
URL:https://events.org/e/Derek-Hough/BSWWIWKX
BEGIN:VALARM
ACTION:DISPLAY
SUMMARY:Reminder
TRIGGER:-P1D
END:VALARM
END:VEVENT
END:VCALENDAR
