BEGIN:VCALENDAR
METHOD:REQUEST
PRODID:-//events.orgNONSGML ical.net 4.0//EN
VERSION:2.0
BEGIN:VEVENT
DTEND;VALUE=DATE:20260523
DTSTAMP:20260422T092207Z
DTSTART;VALUE=DATE:20260523
LOCATION:Grant Park\, Chicago
ORGANIZER;CN=:mailto:events@events.org
SEQUENCE:0
SUMMARY:Sueños Festival
UID:4b6e24e6-bd76-487f-ac34-6003d862c59e
URL:https://events.org/e/Suenos-Festival/XWFVLRHM
BEGIN:VALARM
ACTION:DISPLAY
SUMMARY:Reminder
TRIGGER:-P1D
END:VALARM
END:VEVENT
END:VCALENDAR
