BEGIN:VCALENDAR
METHOD:REQUEST
PRODID:-//events.orgNONSGML ical.net 4.0//EN
VERSION:2.0
BEGIN:VEVENT
DTEND;VALUE=DATE:20260515
DTSTAMP:20260421T082425Z
DTSTART;VALUE=DATE:20260515
LOCATION:White Oak Music Hall - Downstairs\, Houston
ORGANIZER;CN=:mailto:events@events.org
SEQUENCE:0
SUMMARY:Josiah and the Bonnevilles - The Redline North America Tour
UID:14261fe9-4cfd-41a8-93e7-1921af1f95f5
URL:https://events.org/e/Josiah-and-the-Bonnevilles---The-Redline-Nort/DXI
 O7LQ2
BEGIN:VALARM
ACTION:DISPLAY
SUMMARY:Reminder
TRIGGER:-P1D
END:VALARM
END:VEVENT
END:VCALENDAR
