BEGIN:VCALENDAR
METHOD:REQUEST
PRODID:-//events.orgNONSGML ical.net 4.0//EN
VERSION:2.0
BEGIN:VEVENT
DTEND;VALUE=DATE:20260521
DTSTAMP:20260422T085019Z
DTSTART;VALUE=DATE:20260521
LOCATION:Walt Disney Concert Hall\, Los Angeles
ORGANIZER;CN=:mailto:events@events.org
SEQUENCE:0
SUMMARY:Los Angeles Philharmonic w/ Gustavo Dudamel
UID:9864925f-db55-4f72-b5ad-6ae517fdddff
URL:https://events.org/e/Los-Angeles-Philharmonic-w-Gustavo-Dudamel/HQYY9Y
 IG
BEGIN:VALARM
ACTION:DISPLAY
SUMMARY:Reminder
TRIGGER:-P1D
END:VALARM
END:VEVENT
END:VCALENDAR
