BEGIN:VCALENDAR
METHOD:REQUEST
PRODID:-//events.orgNONSGML ical.net 4.0//EN
VERSION:2.0
BEGIN:VEVENT
DTEND;VALUE=DATE:20260423
DTSTAMP:20260422T091051Z
DTSTART;VALUE=DATE:20260423
LOCATION:Banksy Museum New York\, New York
ORGANIZER;CN=:mailto:events@events.org
SEQUENCE:0
SUMMARY:The Banksy Museum New York!
UID:e6cff826-298b-42b6-9d26-b42eafeb3cde
URL:https://events.org/e/The-Banksy-Museum-New-York/F62UYYRA
BEGIN:VALARM
ACTION:DISPLAY
SUMMARY:Reminder
TRIGGER:-P1D
END:VALARM
END:VEVENT
END:VCALENDAR
