BEGIN:VCALENDAR
METHOD:REQUEST
PRODID:-//events.orgNONSGML ical.net 4.0//EN
VERSION:2.0
BEGIN:VEVENT
DTEND;VALUE=DATE:20260717
DTSTAMP:20260424T092623Z
DTSTART;VALUE=DATE:20260717
LOCATION:The Eastern-GA\, Atlanta
ORGANIZER;CN=:mailto:events@events.org
SEQUENCE:0
SUMMARY:Kurt Vile & The Violators
UID:7532a93a-f340-4d4c-b80f-6775101c4451
URL:https://events.org/e/Kurt-Vile-The-Violators/UC9PP2HF
BEGIN:VALARM
ACTION:DISPLAY
SUMMARY:Reminder
TRIGGER:-P1D
END:VALARM
END:VEVENT
END:VCALENDAR
