BEGIN:VCALENDAR
METHOD:REQUEST
PRODID:-//events.orgNONSGML ical.net 4.0//EN
VERSION:2.0
BEGIN:VEVENT
DTEND;VALUE=DATE:20260627
DTSTAMP:20260421T104219Z
DTSTART;VALUE=DATE:20260627
LOCATION:Mortgage Matchup Center\, Phoenix
ORGANIZER;CN=:mailto:events@events.org
SEQUENCE:0
SUMMARY:Nate Bargatze: Big Dumb Eyes World Tour
UID:bed5a6cd-27b4-4f95-a90c-a79e99c51173
URL:https://events.org/e/Nate-Bargatze-Big-Dumb-Eyes-World-Tour/6PK7M5UU
BEGIN:VALARM
ACTION:DISPLAY
SUMMARY:Reminder
TRIGGER:-P1D
END:VALARM
END:VEVENT
END:VCALENDAR
