BEGIN:VCALENDAR
METHOD:REQUEST
PRODID:-//events.orgNONSGML ical.net 4.0//EN
VERSION:2.0
BEGIN:VEVENT
DTEND;VALUE=DATE:20260507
DTSTAMP:20260421T114810Z
DTSTART;VALUE=DATE:20260507
LOCATION:LARGO AT THE CORONET THEATER\, Los Angeles
ORGANIZER;CN=:mailto:events@events.org
SEQUENCE:0
SUMMARY:Netflix Is A Joke Presents: Maria Bamford
UID:26d037b5-3c52-47a9-b286-267cd54a9c80
URL:https://events.org/e/Netflix-Is-A-Joke-Presents-Maria-Bamford/EVWTWX4G
BEGIN:VALARM
ACTION:DISPLAY
SUMMARY:Reminder
TRIGGER:-P1D
END:VALARM
END:VEVENT
END:VCALENDAR
