BEGIN:VCALENDAR
METHOD:REQUEST
PRODID:-//events.orgNONSGML ical.net 4.0//EN
VERSION:2.0
BEGIN:VEVENT
DTEND;VALUE=DATE:20260608
DTSTAMP:20260425T210926Z
DTSTART;VALUE=DATE:20260608
LOCATION:Valley Bar\, Phoenix
ORGANIZER;CN=:mailto:events@events.org
SEQUENCE:0
SUMMARY:LOWERTOWN
UID:1b91bc5b-b66f-46b8-92b3-69a740895aba
URL:https://events.org/e/LOWERTOWN/5X2GT9JX
BEGIN:VALARM
ACTION:DISPLAY
SUMMARY:Reminder
TRIGGER:-P1D
END:VALARM
END:VEVENT
END:VCALENDAR
