BEGIN:VCALENDAR
METHOD:REQUEST
PRODID:-//events.orgNONSGML ical.net 4.0//EN
VERSION:2.0
BEGIN:VEVENT
DTEND;VALUE=DATE:20260522
DTSTAMP:20260424T081006Z
DTSTART;VALUE=DATE:20260522
LOCATION:The United Theater on Broadway\, Los Angeles
ORGANIZER;CN=:mailto:events@events.org
SEQUENCE:0
SUMMARY:Garrison Keillor (5 and Over)
UID:6742a2de-8b61-4199-bebd-a742903bec99
URL:https://events.org/e/Garrison-Keillor-5-and-Over/F7BR3SC2
BEGIN:VALARM
ACTION:DISPLAY
SUMMARY:Reminder
TRIGGER:-P1D
END:VALARM
END:VEVENT
END:VCALENDAR
