BEGIN:VCALENDAR
METHOD:REQUEST
PRODID:-//events.orgNONSGML ical.net 4.0//EN
VERSION:2.0
BEGIN:VEVENT
DTEND;VALUE=DATE:20260723
DTSTAMP:20260424T092209Z
DTSTART;VALUE=DATE:20260723
LOCATION:Underground Arts\, Philadelphia
ORGANIZER;CN=:mailto:events@events.org
SEQUENCE:0
SUMMARY:Man Man with Death Valley Girls (21+ Event)
UID:2564cde2-2d35-4248-a28f-1b31028121aa
URL:https://events.org/e/Man-Man-with-Death-Valley-Girls-21-Event/U8Y95KYR
BEGIN:VALARM
ACTION:DISPLAY
SUMMARY:Reminder
TRIGGER:-P1D
END:VALARM
END:VEVENT
END:VCALENDAR
