BEGIN:VCALENDAR
METHOD:REQUEST
PRODID:-//events.orgNONSGML ical.net 4.0//EN
VERSION:2.0
BEGIN:VEVENT
DTEND;VALUE=DATE:20260623
DTSTAMP:20260419T154112Z
DTSTART;VALUE=DATE:20260623
LOCATION:Citizens Opera House\, Boston
ORGANIZER;CN=:mailto:events@events.org
SEQUENCE:0
SUMMARY:Les Miserables (Touring)
UID:9c965b16-f33c-46b2-a0aa-fd9394134916
URL:https://events.org/e/Les-Miserables-Touring/RAUHBWLD
BEGIN:VALARM
ACTION:DISPLAY
SUMMARY:Reminder
TRIGGER:-P1D
END:VALARM
END:VEVENT
END:VCALENDAR
