BEGIN:VCALENDAR
METHOD:REQUEST
PRODID:-//events.orgNONSGML ical.net 4.0//EN
VERSION:2.0
BEGIN:VEVENT
DTEND;VALUE=DATE:20260515
DTSTAMP:20260422T083854Z
DTSTART;VALUE=DATE:20260515
LOCATION:Nova SD\, San Diego
ORGANIZER;CN=:mailto:events@events.org
SEQUENCE:0
SUMMARY:Flashback: A 2010s EDM Tribute Party
UID:2a7ff17a-73c2-4602-a96f-ff2d1e356cf8
URL:https://events.org/e/Flashback-A-2010s-EDM-Tribute-Party/DH5YVYKU
BEGIN:VALARM
ACTION:DISPLAY
SUMMARY:Reminder
TRIGGER:-P1D
END:VALARM
END:VEVENT
END:VCALENDAR
