BEGIN:VCALENDAR
METHOD:REQUEST
PRODID:-//events.orgNONSGML ical.net 4.0//EN
VERSION:2.0
BEGIN:VEVENT
DTEND;VALUE=DATE:20260620
DTSTAMP:20260421T103757Z
DTSTART;VALUE=DATE:20260620
LOCATION:Miller Theater-PA\, Philadelphia
ORGANIZER;CN=:mailto:events@events.org
SEQUENCE:0
SUMMARY:Bluey's Big Play - The Stage Show
UID:3cfb99a9-48b4-45d2-9967-b0ac53cd26b6
URL:https://events.org/e/Blueys-Big-Play---The-Stage-Show/MRIG88OS
BEGIN:VALARM
ACTION:DISPLAY
SUMMARY:Reminder
TRIGGER:-P1D
END:VALARM
END:VEVENT
END:VCALENDAR
