BEGIN:VCALENDAR
METHOD:REQUEST
PRODID:-//events.orgNONSGML ical.net 4.0//EN
VERSION:2.0
BEGIN:VEVENT
DTEND;VALUE=DATE:20260425
DTSTAMP:20260422T090311Z
DTSTART;VALUE=DATE:20260425
LOCATION:New World Stages - Stage 1\, New York
ORGANIZER;CN=:mailto:events@events.org
SEQUENCE:0
SUMMARY:Heathers: The Musical
UID:d57fec99-8d7b-4e4e-84c2-a5feb30c082f
URL:https://events.org/e/Heathers-The-Musical/XCT7GYON
BEGIN:VALARM
ACTION:DISPLAY
SUMMARY:Reminder
TRIGGER:-P1D
END:VALARM
END:VEVENT
END:VCALENDAR
