BEGIN:VCALENDAR
METHOD:REQUEST
PRODID:-//events.orgNONSGML ical.net 4.0//EN
VERSION:2.0
BEGIN:VEVENT
DTEND;VALUE=DATE:20260515
DTSTAMP:20260421T082458Z
DTSTART;VALUE=DATE:20260515
LOCATION:The Eastern-GA\, Atlanta
ORGANIZER;CN=:mailto:events@events.org
SEQUENCE:0
SUMMARY:Breakaway Atlanta Official After Party ft. PEEKABOO b2b LYNY (18+ 
 Event)
UID:60067759-f570-49d3-ac65-6017b103116e
URL:https://events.org/e/Breakaway-Atlanta-Official-After-Party-ft-PEE/GFU
 R4VJD
BEGIN:VALARM
ACTION:DISPLAY
SUMMARY:Reminder
TRIGGER:-P1D
END:VALARM
END:VEVENT
END:VCALENDAR
