BEGIN:VCALENDAR
METHOD:REQUEST
PRODID:-//events.orgNONSGML ical.net 4.0//EN
VERSION:2.0
BEGIN:VEVENT
DTEND;VALUE=DATE:20260711
DTSTAMP:20260424T091921Z
DTSTART;VALUE=DATE:20260711
LOCATION:Oracle Park\, San Francisco
ORGANIZER;CN=:mailto:events@events.org
SEQUENCE:0
SUMMARY:San Francisco Giants vs Colorado Rockies: Gigantes Aloha Shirt
UID:178234ab-b697-47c0-a3c2-63cbe08321cb
URL:https://events.org/e/San-Francisco-Giants-vs-Colorado-Rockies-Giga/VPB
 27XSO
BEGIN:VALARM
ACTION:DISPLAY
SUMMARY:Reminder
TRIGGER:-P1D
END:VALARM
END:VEVENT
END:VCALENDAR
