BEGIN:VCALENDAR
METHOD:REQUEST
PRODID:-//events.orgNONSGML ical.net 4.0//EN
VERSION:2.0
BEGIN:VEVENT
DTEND;VALUE=DATE:20260613
DTSTAMP:20260421T103602Z
DTSTART;VALUE=DATE:20260613
LOCATION:The Federal Theatre\, Denver
ORGANIZER;CN=:mailto:events@events.org
SEQUENCE:0
SUMMARY:Citizen Soldier: Secret Songs Tour II
UID:31500196-b5ae-4115-be40-cc7a8ab2b6ff
URL:https://events.org/e/Citizen-Soldier-Secret-Songs-Tour-II/2G6S2G3C
BEGIN:VALARM
ACTION:DISPLAY
SUMMARY:Reminder
TRIGGER:-P1D
END:VALARM
END:VEVENT
END:VCALENDAR
