BEGIN:VCALENDAR
METHOD:REQUEST
PRODID:-//events.orgNONSGML ical.net 4.0//EN
VERSION:2.0
BEGIN:VEVENT
DTEND;VALUE=DATE:20260503
DTSTAMP:20260419T144214Z
DTSTART;VALUE=DATE:20260503
LOCATION:Atlanta Symphony Hall\, Atlanta
ORGANIZER;CN=:mailto:events@events.org
SEQUENCE:0
SUMMARY:Josh Gates LIVE! An Evening of Legends\, Mysteries & Tales of Adve
 nture
UID:ab2795a9-4a9f-44e6-9d5d-15d2c9cfb1ba
URL:https://events.org/e/Josh-Gates-LIVE-An-Evening-of-Legends-Mysteri/WDB
 83V29
BEGIN:VALARM
ACTION:DISPLAY
SUMMARY:Reminder
TRIGGER:-P1D
END:VALARM
END:VEVENT
END:VCALENDAR
