BEGIN:VCALENDAR
METHOD:REQUEST
PRODID:-//events.orgNONSGML ical.net 4.0//EN
VERSION:2.0
BEGIN:VEVENT
DTEND;VALUE=DATE:20260614
DTSTAMP:20260424T092425Z
DTSTART;VALUE=DATE:20260614
LOCATION:Punch Line Houston\, Houston
ORGANIZER;CN=:mailto:events@events.org
SEQUENCE:0
SUMMARY:Connor King
UID:c8d28ddf-6cca-44b1-9087-23389c66f564
URL:https://events.org/e/Connor-King/A7S3FVB7
BEGIN:VALARM
ACTION:DISPLAY
SUMMARY:Reminder
TRIGGER:-P1D
END:VALARM
END:VEVENT
END:VCALENDAR
