BEGIN:VCALENDAR
METHOD:REQUEST
PRODID:-//events.orgNONSGML ical.net 4.0//EN
VERSION:2.0
BEGIN:VEVENT
DTEND;VALUE=DATE:20260612
DTSTAMP:20260419T154305Z
DTSTART;VALUE=DATE:20260612
LOCATION:The Foundry\, Philadelphia
ORGANIZER;CN=:mailto:events@events.org
SEQUENCE:0
SUMMARY:Ray Bull: Please Stop Laughing Tour
UID:398dc616-48b5-406d-8cf6-02cf42ff3dc1
URL:https://events.org/e/Ray-Bull-Please-Stop-Laughing-Tour/Y7FHN6GG
BEGIN:VALARM
ACTION:DISPLAY
SUMMARY:Reminder
TRIGGER:-P1D
END:VALARM
END:VEVENT
END:VCALENDAR
