BEGIN:VCALENDAR
METHOD:REQUEST
PRODID:-//events.orgNONSGML ical.net 4.0//EN
VERSION:2.0
BEGIN:VEVENT
DTEND;VALUE=DATE:20260801
DTSTAMP:20260424T092220Z
DTSTART;VALUE=DATE:20260801
LOCATION:Voodoo Room at the House of Blues San Diego\, San Diego
ORGANIZER;CN=:mailto:events@events.org
SEQUENCE:0
SUMMARY:Bird and Byron
UID:37fb0e5b-35af-4679-b651-c6a35e1146da
URL:https://events.org/e/Bird-and-Byron/3WPXA66K
BEGIN:VALARM
ACTION:DISPLAY
SUMMARY:Reminder
TRIGGER:-P1D
END:VALARM
END:VEVENT
END:VCALENDAR
