BEGIN:VCALENDAR
METHOD:REQUEST
PRODID:-//events.orgNONSGML ical.net 4.0//EN
VERSION:2.0
BEGIN:VEVENT
DTEND;VALUE=DATE:20260426
DTSTAMP:20260424T080505Z
DTSTART;VALUE=DATE:20260426
LOCATION:Daryl Roth Theatre\, New York
ORGANIZER;CN=:mailto:events@events.org
SEQUENCE:0
SUMMARY:Mexodus the Musical
UID:88cbf3b4-a186-4c17-a69e-53f4fffcbf84
URL:https://events.org/e/Mexodus-the-Musical/7P3JXNBR
BEGIN:VALARM
ACTION:DISPLAY
SUMMARY:Reminder
TRIGGER:-P1D
END:VALARM
END:VEVENT
END:VCALENDAR
