BEGIN:VCALENDAR
METHOD:REQUEST
PRODID:-//events.orgNONSGML ical.net 4.0//EN
VERSION:2.0
BEGIN:VEVENT
DTEND;VALUE=DATE:20260625
DTSTAMP:20260422T092340Z
DTSTART;VALUE=DATE:20260625
LOCATION:Neptune Theatre\, Seattle
ORGANIZER;CN=:mailto:events@events.org
SEQUENCE:0
SUMMARY:The Kevin Langue Show: Live!
UID:615f8f79-f41c-47a2-be48-952d50f3041d
URL:https://events.org/e/The-Kevin-Langue-Show-Live/IO63EFHT
BEGIN:VALARM
ACTION:DISPLAY
SUMMARY:Reminder
TRIGGER:-P1D
END:VALARM
END:VEVENT
END:VCALENDAR
