BEGIN:VCALENDAR
METHOD:REQUEST
PRODID:-//events.orgNONSGML ical.net 4.0//EN
VERSION:2.0
BEGIN:VEVENT
DTEND;VALUE=DATE:20260426
DTSTAMP:20260421T095528Z
DTSTART;VALUE=DATE:20260426
LOCATION:Black Ensemble Theater\, Chicago
ORGANIZER;CN=:mailto:events@events.org
SEQUENCE:0
SUMMARY:The Jackie Wilson Story
UID:0eeb8c9e-cd40-4b32-9456-8f6666edcbd7
URL:https://events.org/e/The-Jackie-Wilson-Story/6BO7WHMW
BEGIN:VALARM
ACTION:DISPLAY
SUMMARY:Reminder
TRIGGER:-P1D
END:VALARM
END:VEVENT
END:VCALENDAR
