BEGIN:VCALENDAR
METHOD:REQUEST
PRODID:-//events.orgNONSGML ical.net 4.0//EN
VERSION:2.0
BEGIN:VEVENT
DTEND;VALUE=DATE:20260530
DTSTAMP:20260424T092741Z
DTSTART;VALUE=DATE:20260530
LOCATION:Walter Studios\, Phoenix
ORGANIZER;CN=:mailto:events@events.org
SEQUENCE:0
SUMMARY:Paurro\, Ma and Pondi Map (21 and Over)
UID:d7d8627a-b0d2-4ba6-b728-8d5da887ce87
URL:https://events.org/e/Paurro-Ma-and-Pondi-Map-21-and-Over/PP6JYHRE
BEGIN:VALARM
ACTION:DISPLAY
SUMMARY:Reminder
TRIGGER:-P1D
END:VALARM
END:VEVENT
END:VCALENDAR
