BEGIN:VCALENDAR
METHOD:REQUEST
PRODID:-//events.orgNONSGML ical.net 4.0//EN
VERSION:2.0
BEGIN:VEVENT
DTEND;VALUE=DATE:20260928
DTSTAMP:20260419T170109Z
DTSTART;VALUE=DATE:20260928
LOCATION:Saint Andrew's Hall\, Detroit
ORGANIZER;CN=:mailto:events@events.org
SEQUENCE:0
SUMMARY:Ben Harper & The Innocent Criminals
UID:9ffe3c37-f697-46f6-835b-f637e99564fc
URL:https://events.org/e/Ben-Harper-The-Innocent-Criminals/FKKCSLJK
BEGIN:VALARM
ACTION:DISPLAY
SUMMARY:Reminder
TRIGGER:-P1D
END:VALARM
END:VEVENT
END:VCALENDAR
