BEGIN:VCALENDAR
METHOD:REQUEST
PRODID:-//events.orgNONSGML ical.net 4.0//EN
VERSION:2.0
BEGIN:VEVENT
DTEND;VALUE=DATE:20260424
DTSTAMP:20260422T090953Z
DTSTART;VALUE=DATE:20260424
LOCATION:The Liberty Belle - Rocks Off Concert Cruise\, New York
ORGANIZER;CN=:mailto:events@events.org
SEQUENCE:0
SUMMARY:Emo Night Karaoke On A Boat!
UID:0358c883-8995-4484-8a54-412dcb912445
URL:https://events.org/e/Emo-Night-Karaoke-On-A-Boat/N8MF5K2N
BEGIN:VALARM
ACTION:DISPLAY
SUMMARY:Reminder
TRIGGER:-P1D
END:VALARM
END:VEVENT
END:VCALENDAR
