BEGIN:VCALENDAR
METHOD:REQUEST
PRODID:-//events.orgNONSGML ical.net 4.0//EN
VERSION:2.0
BEGIN:VEVENT
DTEND;VALUE=DATE:20260509
DTSTAMP:20260423T133211Z
DTSTART;VALUE=DATE:20260509
LOCATION:Variety Playhouse\, Atlanta
ORGANIZER;CN=:mailto:events@events.org
SEQUENCE:0
SUMMARY:Built To Spill
UID:36d4faef-5642-4f53-b395-bb125326ac6a
URL:https://events.org/e/Built-To-Spill/O7WMWLKM
BEGIN:VALARM
ACTION:DISPLAY
SUMMARY:Reminder
TRIGGER:-P1D
END:VALARM
END:VEVENT
END:VCALENDAR
