BEGIN:VCALENDAR
METHOD:REQUEST
PRODID:-//events.orgNONSGML ical.net 4.0//EN
VERSION:2.0
BEGIN:VEVENT
DTEND;VALUE=DATE:20260523
DTSTAMP:20260422T090851Z
DTSTART;VALUE=DATE:20260523
LOCATION:Reggie's Rock Club\, Chicago
ORGANIZER;CN=:mailto:events@events.org
SEQUENCE:0
SUMMARY:D.R.I. w/ Deathwish
UID:729aeda1-db20-46c3-b1ed-deb9ecf94e2e
URL:https://events.org/e/DRI-w-Deathwish/6IGMNUEA
BEGIN:VALARM
ACTION:DISPLAY
SUMMARY:Reminder
TRIGGER:-P1D
END:VALARM
END:VEVENT
END:VCALENDAR
