BEGIN:VCALENDAR
METHOD:REQUEST
PRODID:-//events.orgNONSGML ical.net 4.0//EN
VERSION:2.0
BEGIN:VEVENT
DTEND;VALUE=DATE:20260425
DTSTAMP:20260422T090634Z
DTSTART;VALUE=DATE:20260425
LOCATION:Belasco Theatre\, New York
ORGANIZER;CN=:mailto:events@events.org
SEQUENCE:0
SUMMARY:Maybe Happy Ending
UID:a3be4176-a51b-4806-b51a-95bbe2538b25
URL:https://events.org/e/Maybe-Happy-Ending/KA5T6RC9
BEGIN:VALARM
ACTION:DISPLAY
SUMMARY:Reminder
TRIGGER:-P1D
END:VALARM
END:VEVENT
END:VCALENDAR
