BEGIN:VCALENDAR
METHOD:REQUEST
PRODID:-//events.orgNONSGML ical.net 4.0//EN
VERSION:2.0
BEGIN:VEVENT
DTEND;VALUE=DATE:20260802
DTSTAMP:20260422T085837Z
DTSTART;VALUE=DATE:20260802
LOCATION:The Wilbur\, Boston
ORGANIZER;CN=:mailto:events@events.org
SEQUENCE:0
SUMMARY:PJ Morton - Saturday Night Sunday Morning Tour
UID:8d4c63a5-64eb-4af4-8b32-e25a571b599c
URL:https://events.org/e/PJ-Morton---Saturday-Night-Sunday-Morning-Tour/TN
 G68L3I
BEGIN:VALARM
ACTION:DISPLAY
SUMMARY:Reminder
TRIGGER:-P1D
END:VALARM
END:VEVENT
END:VCALENDAR
