BEGIN:VCALENDAR
METHOD:REQUEST
PRODID:-//events.orgNONSGML ical.net 4.0//EN
VERSION:2.0
BEGIN:VEVENT
DTEND;VALUE=DATE:20260612
DTSTAMP:20260419T142219Z
DTSTART;VALUE=DATE:20260612
LOCATION:Stages - Sterling Stage\, Houston
ORGANIZER;CN=:mailto:events@events.org
SEQUENCE:0
SUMMARY:Spamilton: An American Parody
UID:c57b0f7f-d128-4c85-b335-58ae65b3206f
URL:https://events.org/e/Spamilton-An-American-Parody/OPK8WQVG
BEGIN:VALARM
ACTION:DISPLAY
SUMMARY:Reminder
TRIGGER:-P1D
END:VALARM
END:VEVENT
END:VCALENDAR
