BEGIN:VCALENDAR
METHOD:REQUEST
PRODID:-//events.orgNONSGML ical.net 4.0//EN
VERSION:2.0
BEGIN:VEVENT
DTEND;VALUE=DATE:20260507
DTSTAMP:20260419T165332Z
DTSTART;VALUE=DATE:20260507
LOCATION:The Hotel Cafe (Main Stage)\, Los Angeles
ORGANIZER;CN=:mailto:events@events.org
SEQUENCE:0
SUMMARY:Netflix Is A Joke Presents: Michael Longfellow
UID:1c36332b-2077-4c1f-8272-c317b4fa7757
URL:https://events.org/e/Netflix-Is-A-Joke-Presents-Michael-Longfellow/YHC
 KB8MC
BEGIN:VALARM
ACTION:DISPLAY
SUMMARY:Reminder
TRIGGER:-P1D
END:VALARM
END:VEVENT
END:VCALENDAR
