BEGIN:VCALENDAR
METHOD:REQUEST
PRODID:-//events.orgNONSGML ical.net 4.0//EN
VERSION:2.0
BEGIN:VEVENT
DTEND;VALUE=DATE:20260809
DTSTAMP:20260421T082546Z
DTSTART;VALUE=DATE:20260809
LOCATION:Paramount Theatre\, Denver
ORGANIZER;CN=:mailto:events@events.org
SEQUENCE:0
SUMMARY:One Night of Queen
UID:0ab066e0-6a1c-4702-a1da-e8398245c017
URL:https://events.org/e/One-Night-of-Queen/KNHO2RIF
BEGIN:VALARM
ACTION:DISPLAY
SUMMARY:Reminder
TRIGGER:-P1D
END:VALARM
END:VEVENT
END:VCALENDAR
