BEGIN:VCALENDAR
METHOD:REQUEST
PRODID:-//events.orgNONSGML ical.net 4.0//EN
VERSION:2.0
BEGIN:VEVENT
DTEND;VALUE=DATE:20260605
DTSTAMP:20260424T092607Z
DTSTART;VALUE=DATE:20260605
LOCATION:Almeda Mall\, Houston
ORGANIZER;CN=:mailto:events@events.org
SEQUENCE:0
SUMMARY:Flip Circus
UID:38189d8d-5a57-45a2-b6f5-3696580922e8
URL:https://events.org/e/Flip-Circus/8VKYHAR8
BEGIN:VALARM
ACTION:DISPLAY
SUMMARY:Reminder
TRIGGER:-P1D
END:VALARM
END:VEVENT
END:VCALENDAR
