BEGIN:VCALENDAR
METHOD:REQUEST
PRODID:-//events.orgNONSGML ical.net 4.0//EN
VERSION:2.0
BEGIN:VEVENT
DTEND;VALUE=DATE:20260422
DTSTAMP:20260421T082726Z
DTSTART;VALUE=DATE:20260422
LOCATION:Stage 42\, New York
ORGANIZER;CN=:mailto:events@events.org
SEQUENCE:0
SUMMARY:Gotta Dance!
UID:1ba8167a-95b8-41c5-a5f6-53a263e8a591
URL:https://events.org/e/Gotta-Dance/XROV4Y6H
BEGIN:VALARM
ACTION:DISPLAY
SUMMARY:Reminder
TRIGGER:-P1D
END:VALARM
END:VEVENT
END:VCALENDAR
